BEGIN:VCALENDAR
VERSION:2.0
PRODID:-//Andrea Cámpora - ECPv6.15.20//NONSGML v1.0//EN
CALSCALE:GREGORIAN
METHOD:PUBLISH
X-ORIGINAL-URL:https://andreacampora-art.com
X-WR-CALDESC:Évènements pour Andrea Cámpora
REFRESH-INTERVAL;VALUE=DURATION:PT1H
X-Robots-Tag:noindex
X-PUBLISHED-TTL:PT1H
BEGIN:VTIMEZONE
TZID:Europe/Paris
BEGIN:DAYLIGHT
TZOFFSETFROM:+0100
TZOFFSETTO:+0200
TZNAME:CEST
DTSTART:20220327T010000
END:DAYLIGHT
BEGIN:STANDARD
TZOFFSETFROM:+0200
TZOFFSETTO:+0100
TZNAME:CET
DTSTART:20221030T010000
END:STANDARD
BEGIN:DAYLIGHT
TZOFFSETFROM:+0100
TZOFFSETTO:+0200
TZNAME:CEST
DTSTART:20230326T010000
END:DAYLIGHT
BEGIN:STANDARD
TZOFFSETFROM:+0200
TZOFFSETTO:+0100
TZNAME:CET
DTSTART:20231029T010000
END:STANDARD
BEGIN:DAYLIGHT
TZOFFSETFROM:+0100
TZOFFSETTO:+0200
TZNAME:CEST
DTSTART:20240331T010000
END:DAYLIGHT
BEGIN:STANDARD
TZOFFSETFROM:+0200
TZOFFSETTO:+0100
TZNAME:CET
DTSTART:20241027T010000
END:STANDARD
END:VTIMEZONE
BEGIN:VEVENT
DTSTART;TZID=Europe/Paris:20230701T100000
DTEND;TZID=Europe/Paris:20230701T123000
DTSTAMP:20260419T190233
CREATED:20230620T183557Z
LAST-MODIFIED:20230702T122330Z
UID:1920-1688205600-1688214600@andreacampora-art.com
SUMMARY:Impression textile en sérigraphie
DESCRIPTION:Customise et imprime tes tissus avec des techniques expérimentales de sérigraphie. \nThème de l’atelier : customise un tote bag avec sérigraphie expérimentale. \nSéances de 2h30 avec fournitures comprises. 8 participants maximum par atelier. \nTarif : 30€. Réduction de 10% pour toute inscription à 4 ateliers adultes des thèmes « Teinture végétale et shibori » ou « Impression textile et sérigraphie »\, soit 108€ au lieu de 120€. \nInscription via ce formulaire.
URL:https://andreacampora-art.com/evenement/impression-textile-en-serigraphie-3/
LOCATION:La maison jaune\, 6 avenue des sapins\, Jullouville\, 50610\, France
ATTACH;FMTTYPE=image/jpeg:https://andreacampora-art.com/wp-content/uploads/sites/5/2023/06/Atelier-ete-2023-Serigraphie-adultes.jpg
END:VEVENT
END:VCALENDAR